{"text_format":"1","workbook":"xlsx","n_sheets":2,"sheets":["Kumulativní rozpočet projektu","List2"],"not_rendered":{"charts":0,"images":2,"macros":1,"external_links":0,"defined_names":1,"comments":1,"pivot_tables":0},"unopened":[],"bounds":{"document_bytes":16777216,"sheet_cells":100000,"rows_first":2000,"rows_last":500,"rows_between":2000,"halvings":0,"cell_chars":16384,"cell_head_chars":4096},"cells_cut":0,"cells_raw":0,"read":"whole","date_system":"1900"}

{"sheet":"Kumulativní rozpočet projektu","index":0,"n_rows":32,"n_cols":9,"rows_kept":32,"cut":false,"hidden":false,"merged":[[0,0,0,10],[2,1,2,3],[3,1,3,3],[3,6,4,10],[11,2,12,2],[5,6,5,10],[11,0,12,1],[16,8,16,10],[13,8,13,10],[13,1,13,2],[13,4,13,5],[13,0,17,0],[17,4,17,5],[15,8,15,10],[15,4,15,5],[11,8,12,10],[11,7,12,7],[11,3,12,3],[11,4,12,5],[11,6,12,6],[14,1,14,2],[14,4,14,5],[14,8,14,10],[26,4,26,5],[22,4,22,5],[23,8,23,10],[25,8,25,10],[26,8,26,10],[22,8,22,10],[23,4,23,5],[25,4,25,5],[24,8,24,10],[24,4,24,5],[18,1,18,2],[18,4,18,5],[17,8,17,10],[23,1,23,2],[19,1,19,2],[20,1,20,2],[21,1,21,2],[15,1,15,2],[17,1,17,2],[31,0,31,1],[2,6,2,10],[16,1,16,2],[16,4,16,5],[29,4,30,10],[28,4,28,10],[18,0,25,0],[24,1,24,2],[18,8,18,10],[19,8,19,10],[20,8,20,10],[21,8,21,10],[19,4,19,5],[20,4,20,5],[21,4,21,5],[22,1,22,2]]}
["KUMULATIVNÍ ROZPOČET PROJEKTU"]
[]
["Název žadatele",null,null,null,null,"Instrukce:","Editovat pouze zelená pole!"]
["Název projektu",null,null,null,null,null,"V případě existence veřejné podpory u posuzovaného projektu se způsobilost výdajů na projektovou přípravu řídí kapitolou B.2.8 Pravidel pro žadatele a příjemce."]
[]
["Prioritní osa","PO3",null,null,null,null,"Důležité informace jsou označeny červeným trojúhelníkem v pravém horním rohu buněk."]
["Specifický cíl","2015-05-03"]
[]
[]
[]
["Souhrnný rozpočet"]
["Procentní výše způsob. výdajů na projektovou přípravu",null,{"$f":"IF(I17>10000000,\"6\",IF(I17>3000000,\"7\",IF(I17>1000000,\"8\",\"10\")))","v":"10"},"Cena bez DPH","procento DPH [%]",null,"Cena s DPH","Nezpůsobilá část celkových výdajů stanovená žadatelem (bez DPH)","Způsobilé výdaje po zohlednění limitů způsobilých výdajů a způsobilosti DPH"]
[]
["Realizace","Realizační výdaje",null,0,21,null,{"$f":"D14*(1+(E14/100))","v":0},0,{"$f":"IF(List2!A41=TRUE,(D14-H14),(D14-H14)*(1+(E14/100)))","v":0}]
[null,"Dokumentace skutečného provedení",null,0,21,null,{"$f":"D15*(1+(E15/100))","v":0},0,{"$f":"IF(List2!A41=TRUE,D15-H15,(D15-H15)*(1+(E15/100)))","v":0}]
[null,"Rezerva",null,0,21,null,{"$f":"D16*(1+(E16/100))","v":0},0,{"$f":"0","v":0}]
[null,"Celkem (Přímé realizační výdaje)",null,{"$f":"SUM(D14:D16)","v":0},null,null,{"$f":"SUM(G14:G16)","v":0},{"$f":"SUM(H14:H16)","v":0},{"$f":"SUM(I14:K16)","v":0}]
[null,"Propagace",null,0,21,null,{"$f":"D18*(1+(E18/100))","v":0},0,{"$f":"IF(List2!A41=TRUE,(D18-H18),(D18-H18)*(1+(E18/100)))","v":0}]
["Projektová příprava","Projektová dokumentace / studie",null,0,21,null,0,0,{"$f":"IF(List2!A41=TRUE,IF((D19-H19)>(I17*(C12/100)),(I17*(C12/100)),(D19-H19)),IF((D19-H19)*(1+(E19/100))>(I17*(C12/100)),(I17*(C12/100)),(D19-H19)*(1+(E19/100))))","v":0}]
[null,"Energetický posudek / studie proveditelnosti",null,0,21,null,0,0,{"$f":"IF(List2!A41=TRUE,IF((D20-H20)>((I17*(C12/100))-I19),((I17*(C12/100))-I19),(D20-H20)),IF((D20-H20)*(1+(E20/100))>((I17*(C12/100))-I19),((I17*(C12/100))-I19),(D20-H20)*(1+(E20/100))))","v":0}]
[null,"Technický dozor",null,0,21,null,0,0,{"$f":"IF(List2!A41=TRUE,IF((D21-H21)>((I17*(C12/100))-I19-I20),((I17*(C12/100))-I19-I20),(D21-H21)),IF((D21-H21)*(1+(E21/100))>((I17*(C12/100))-I19-I20),((I17*(C12/100))-I19-I20),(D21-H21)*(1+(E21/100))))","v":0}]
[null,"Autorský dozor",null,0,21,null,0,0,{"$f":"IF(List2!A41=TRUE,IF((D22-H22)>((I17*(C12/100))-I19-I20-I21),((I17*(C12/100))-I19-I20-I21),(D22-H22)),IF((D22-H22)*(1+(E22/100))>((I17*(C12/100))-I19-I20-I21),((I17*(C12/100))-I19-I20-I21),(D22-H22)*(1+(E22/100))))","v":0}]
[null,"Žádost",null,0,21,null,0,0,{"$f":"IF(List2!A41=TRUE,IF((D23-H23)>30000,IF(((I17*(C12/100))-I19-I20-I21-I22)>(30000),(30000),((I17*(C12/100))-I19-I20-I21-I22)),IF((D23-H23)*(1+(E23/100))>((I17*(C12/100))-I19-I20-I21-I22),((I17*(C12/100))-I19-I20-I21-I22),(D23-H23))),IF((D23-H23)>30000,IF(((I17*(C12/100))-I19-I20-I21-I22)>(30000*(1+(E23/100))),(30000*(1+(E23/100))),((I17*(C12/100))-I19-I20-I21-I22)),IF((D23-H23)*(1+(E23/100))>((I17*(C12/100))-I19-I20-I21-I22),((I17*(C12/100))-I19-I20-I21-I22),(D23-H23)*(1+(E23/100)))))","v":0}]
[null,"Výběrové řízení",null,0,21,null,0,0,{"$f":"IF(List2!A41=TRUE,IF((D24-H24)>((I17*(C12/100))-I19-I20-I21-I22-I23),((I17*(C12/100))-I19-I20-I21-I22-I23),(D24-H24)),IF((D24-H24)*(1+(E24/100))>((I17*(C12/100))-I19-I20-I21-I22-I23),((I17*(C12/100))-I19-I20-I21-I22-I23),(D24-H24)*(1+(E24/100))))","v":0}]
[null,null,null,0,21,null,0,0,{"$f":"IF(List2!A41=TRUE,IF((D25-H25)>((I17*(C12/100))-I19-I20-I21-I22-I23-I24),((I17*(C12/100))-I19-I20-I21-I22-I23-I24),(D25-H25)),IF((D25-H25)*(1+(E25/100))>((I17*(C12/100))-I19-I20-I21-I22-I23-I24),((I17*(C12/100))-I19-I20-I21-I22-I23-I24),(D25-H25)*(1+(E25/100))))","v":0}]
[null,"Celkem ",null,{"$f":"SUM(D19:D25)","v":0},null,null,{"$f":"SUM(G19:G25)","v":0},{"$f":"SUM(H19:H25)","v":0},{"$f":"SUM(I19:K25)","v":0}]
[null,null,"Celkem",{"$f":"D26+D18+D17","v":0},null,null,{"$f":"G26+G18+G17","v":0},{"$f":"H26+H18+H17","v":0},{"$f":"I17+I18+I26","v":0}]
[]
["Celkové výdaje projektu",null,{"$f":"G27","v":0},null,"Komentář k nezpůsobilým výdajům stanoveným žadatelem:"]
["Celkové způsobilé výdaje projektu",null,{"$f":"I27","v":0}]
["Celkové nezpůsobilé výdaje projektu",null,{"$f":"C29-C30","v":0}]
["Celkové způsobilé investiční (realizační) náklady (bez DPH)",null,{"$f":"IF(List2!A41=FALSE,I14/(1+(E14/100)),I14)+IF(List2!A41=FALSE,I15/(1+(E15/100)),I15)","v":0}]

{"sheet":"List2","index":1,"n_rows":49,"n_cols":8,"rows_kept":49,"cut":false,"hidden":true,"merged":[]}
["Volba","nezvoleno","PO 2"]
["nezvoleno","nezvoleno","2.2 a) Lokální spalovací stacionární zdroje"]
[null,null,"2.2 a) Ostatní spalovací stacionární zdroje"]
["PO_2",null,"2.2 b) Ostatní stacionární zdroje"]
[null,null,"2.2 c) Stacionární zdroje těkavých organických látek"]
[null,null,"2.2 d) Dodatečné technologie a změny technolog. postupů u spalovacích zdrojů"]
[null,null,"2.2 e) Dodatečné technologie a změny technolog. postupů u stacionárních zdrojů"]
[null,null,"2.2 f) Dodatečné technologie a změny technolog. postupů u stacionárních zdrojů těkavých organických látek"]
[null,null,"2.2 g) Technologie ke snižování emisí NH3"]
[null,null,"2.2 h) Omezování prašnosti z plošných zdrojů"]
[null,null,"2.2 i) Soustavy centralizovaného zásobování tepelnou energií"]
[null,null,"2.3 Projekty zaměřené na monitoring"]
[]
[]
[]
[]
[]
[]
[]
[]
[]
["Volba",true,false]
[true,"Kotel na pevná paliva","není"]
[false,"Kondenzační kotel na zemní plyn"]
[null,"Elektrické tepelné čerpadlo vzduch/voda"]
[null,"Elektrické tepelné čerpadlo země/voda"]
[null,"Elektrické tepelné čerpadlo voda/voda"]
[null,"Plynové tepelné čerpadlo vzduch/voda"]
[null,"Plynové tepelné čerpadlo země/voda"]
[null,"Plynové tepelné čerpadlo voda/voda"]
[null,"Plochý kolektor"]
[null,"Trubicový vakuový kolektor"]
[]
[]
[null,null,null,9400]
[null,null,null,8300]
[2,null,null,30000]
[8300,null,null,45900]
[false,null,null,45900]
[true,null,null,20600]
[false,null,null,34300]
[null,null,null,34300,2]
[null,null,null,26500,{"$f":"E42","v":2}]
[null,null,null,48400,2000]
[null,null,null,170000]
[]
[null,null,null,null,null,null,null,"KDYŽ(B2=\"ano\";C6*0,22;KDYŽ(B2=\"ne\";C6*0,05;\"chyba\"))"]
["Kotel na biomasu/tuhá paliva/plyn"]
["Plynové / Elektrické TČ"]